BEGIN:VCALENDAR
VERSION:2.0
PRODID:-//Tukios.com/
BEGIN:VEVENT
UID:341d83da-eea9-4afb-9787-9c468f4f2df6@www.wilsonsfuneralhome.net
DTSTAMP:20260424T234036Z
DTSTART:20260428
SUMMARY:Burial
DESCRIPTION:
URL:https://www.wilsonsfuneralhome.net/obituaries/addison-marie-drew-taylor-klausing
LOCATION:Pleasant Ridge Cemetery 10911 Pleasant Ridge Road  Rockwood IL 
	62280
GEO:37.8614468;-89.7203767
END:VEVENT
END:VCALENDAR