BEGIN:VCALENDAR
VERSION:2.0
PRODID:-//Tukios.com/
BEGIN:VEVENT
UID:90bdec20-45d7-4eda-907a-184a2b157686@www.wilsonsfuneralhome.net
DTSTAMP:20260424T233928Z
DTSTART:20260428T160000Z
DTEND:20260428T170000Z
SUMMARY:Funeral Service
DESCRIPTION:
URL:https://www.wilsonsfuneralhome.net/obituaries/addison-marie-drew-taylor-klausing
LOCATION: 10911 Pleasant Ridge Road  Rockwood IL 62280
GEO:37.8614468;-89.7203767
END:VEVENT
END:VCALENDAR