BEGIN:VCALENDAR
VERSION:2.0
PRODID:-//Tukios.com/
BEGIN:VEVENT
UID:496133c1-250f-429a-908a-e01bdfbce615@www.wilsonsfuneralhome.net
DTSTAMP:20260424T233928Z
DTSTART:20260428T150000Z
DTEND:20260428T160000Z
SUMMARY:Visitation
DESCRIPTION:
URL:https://www.wilsonsfuneralhome.net/obituaries/addison-marie-drew-taylor-klausing
LOCATION:Pleasant Ridge Church 10911 Pleasant Ridge Road  Rockwood IL 
	62280
GEO:37.8614468;-89.7203767
END:VEVENT
END:VCALENDAR